BEGIN:VCALENDAR
VERSION:2.0
PRODID:-//ClearView Baptist Church - ECPv6.15.17.1//NONSGML v1.0//EN
CALSCALE:GREGORIAN
METHOD:PUBLISH
X-WR-CALNAME:ClearView Baptist Church
X-ORIGINAL-URL:https://www.clearview.org
X-WR-CALDESC:Events for ClearView Baptist Church
REFRESH-INTERVAL;VALUE=DURATION:PT1H
X-Robots-Tag:noindex
X-PUBLISHED-TTL:PT1H
BEGIN:VTIMEZONE
TZID:America/Chicago
BEGIN:DAYLIGHT
TZOFFSETFROM:-0600
TZOFFSETTO:-0500
TZNAME:CDT
DTSTART:20250309T080000
END:DAYLIGHT
BEGIN:STANDARD
TZOFFSETFROM:-0500
TZOFFSETTO:-0600
TZNAME:CST
DTSTART:20251102T070000
END:STANDARD
BEGIN:DAYLIGHT
TZOFFSETFROM:-0600
TZOFFSETTO:-0500
TZNAME:CDT
DTSTART:20260308T080000
END:DAYLIGHT
BEGIN:STANDARD
TZOFFSETFROM:-0500
TZOFFSETTO:-0600
TZNAME:CST
DTSTART:20261101T070000
END:STANDARD
BEGIN:DAYLIGHT
TZOFFSETFROM:-0600
TZOFFSETTO:-0500
TZNAME:CDT
DTSTART:20270314T080000
END:DAYLIGHT
BEGIN:STANDARD
TZOFFSETFROM:-0500
TZOFFSETTO:-0600
TZNAME:CST
DTSTART:20271107T070000
END:STANDARD
END:VTIMEZONE
BEGIN:VEVENT
DTSTART;TZID=America/Chicago:20260412T104500
DTEND;TZID=America/Chicago:20260412T120000
DTSTAMP:20260411T230602
CREATED:20251216T191109Z
LAST-MODIFIED:20251222T155322Z
UID:43400-1775990700-1775995200@www.clearview.org
SUMMARY:Starting Point Class
DESCRIPTION:Starting Point is a one-week class designed to help you feel at home at ClearView. Led by our Groups & Connections Pastor\, John Garner\, this class is a relaxed and informative way to learn more about who we are and how you can get connected. \nIn this class\, you’ll learn about: \n\nWho ClearView is and what we believe\nOur mission and values\nGroups and ways to get connected\nOur leadership structure\nWhat membership looks like at ClearView\n\nWhether you’re brand new or have been attending for a while and want to take a next step\, Starting Point is for you. \nNext Class: \n\nDate: April 12\nTime: 10:45 AM\nLocation: Ellersley House on campus (the old farmhouse)\n\nWe’d love for you to join us and learn more about life at ClearView. Let us know you’re joining by filling out the form below: \n\n\n                \n                        \n                            Starting Point Registration\n                             \n                        \n                        Name\n                            \n                            \n                                                    \n                                                    First\n                                                \n                            \n                            \n                                                    \n                                                    Last\n                                                \n                            \n                        Email\n                            \n                        PhoneIs someone attending with you?\n			\n					\n					Yes\n			\n			\n					\n					No\n			What is their name?\n                            \n                            \n                                                    \n                                                    First\n                                                \n                            \n                            \n                                                    \n                                                    Last\n                                                \n                            \n                        Which Starting Point Class will you attend?March 22\, 2026April 12\, 2026\n          \n            \n            \n            \n            \n            \n            \n            \n            \n            \n            \n            \n            \n            \n        \n                        Δ
URL:https://www.clearview.org/event/starting-point-class-4/
LOCATION:The Ellersley House\, 537 Franklin Rd\, Franklin\, TN\, 37069\, United States
CATEGORIES:Adults,General
ATTACH;FMTTYPE=image/png:https://www.clearview.org/wp-content/uploads/2025/12/April-slide.png
END:VEVENT
BEGIN:VEVENT
DTSTART;TZID=America/Chicago:20260412T130000
DTEND;TZID=America/Chicago:20260412T180000
DTSTAMP:20260411T230602
CREATED:20260309T160529Z
LAST-MODIFIED:20260309T161555Z
UID:43757-1775998800-1776016800@www.clearview.org
SUMMARY:Preschool Zoo Meetup
DESCRIPTION:ClearView preschool families are invited to join us for a fun afternoon at the Nashville Zoo! After church\, meet around 1:00 PM near the picnic tables by Festival Field and dining areas—pack a lunch and enjoy time getting to know other preschool families. We’ll reconnect at 2:00 PM for those who want to ride the Wild Animal Carousel and again at 3:00 PM for the Wilderness Express Train. Please RSVP so we know who to expect\, and purchase your family’s zoo tickets separately at nashvillezoo.org. \nIf you have any questions\, contact Tracy Sellers.
URL:https://www.clearview.org/event/preschool-zoo-meetup/
CATEGORIES:General,Preschool
ATTACH;FMTTYPE=image/jpeg:https://www.clearview.org/wp-content/uploads/2026/03/Preschool-Zoo-Meetup-Event-Design-FinalHigh-Definition-Title-Slide-1920x1080-1.jpg
END:VEVENT
BEGIN:VEVENT
DTSTART;TZID=America/Chicago:20260415T180000
DTEND;TZID=America/Chicago:20260415T193000
DTSTAMP:20260411T230602
CREATED:20251212T001026Z
LAST-MODIFIED:20260107T214629Z
UID:43371-1776276000-1776281400@www.clearview.org
SUMMARY:Gather Night – April
DESCRIPTION:Date: Wednesday\, April 15Time: 6:00 PM • Gym \nCome enjoy dinner with your ClearView family at Gather Night\, a relaxed evening designed simply for connection and community. We’ll take care of the food so you can just show up. April’s menu is coming soon.\nPlease click HERE to let us know if you’re coming. Dinner is $5 for anyone under 18 and $10 for adults.\n*Registration for dinner will close on April 12 at 11:59 PM in order to give our caterer an accurate headcount.
URL:https://www.clearview.org/event/gather-night-april/
LOCATION:The Gym\, 537 Franklin Rd\, Building A\, Franklin\, TN\, 37069
CATEGORIES:Adults,General,Preschool,Students
ATTACH;FMTTYPE=image/png:https://www.clearview.org/wp-content/uploads/2026/01/March-2.png
END:VEVENT
BEGIN:VEVENT
DTSTART;TZID=America/Chicago:20260416T093000
DTEND;TZID=America/Chicago:20260416T103000
DTSTAMP:20260411T230602
CREATED:20250814T195923Z
LAST-MODIFIED:20260105T211615Z
UID:42908-1776331800-1776335400@www.clearview.org
SUMMARY:Mom Talks: April 16
DESCRIPTION:As we wrap up our first season of Mom Talks\, we’ll take time to reflect on what God has done in our families and in our friendships this year. \nThis will be a special morning to share stories\, encourage one another\, and head into the summer with renewed faith and joy. \nCoffee\, tea\, and treats will be served. \nNo childcare provided. \nKids Worship Room | 9:30–10:30 AM | Cost: Free
URL:https://www.clearview.org/event/mom-talks-april-16/
LOCATION:Kids Worship Room\, 537 Franklin Rd.\, Franklin\, TN\, 37069
CATEGORIES:Adults,General,Kids,Preschool
ATTACH;FMTTYPE=image/jpeg:https://www.clearview.org/wp-content/uploads/2025/08/Mom-Talks_1920x1080_title.jpg
END:VEVENT
BEGIN:VEVENT
DTSTART;TZID=America/Chicago:20260416T110000
DTEND;TZID=America/Chicago:20260416T130000
DTSTAMP:20260411T230602
CREATED:20250908T190726Z
LAST-MODIFIED:20250908T190726Z
UID:43039-1776337200-1776344400@www.clearview.org
SUMMARY:Active Adult Lunch
DESCRIPTION:Join us for our monthly Active Adult Lunch\, a time of good food\, warm fellowship\, and new friendships! This gathering is for all adults 60 and older and takes place once a month at 11:00 AM in ClearView’s basement. \nWe’ll share a meal together\, laugh\, and enjoy community with one another. To help cover the cost\, we ask for a $10 donation per person. \nRSVP by contacting Kim Margrave at kim@clearview.org
URL:https://www.clearview.org/event/active-adult-lunch-7/
LOCATION:The Basement\, 537 Franklin Rd\, Building A\, Franklin\, TN\, 37069
CATEGORIES:Adults,General
ATTACH;FMTTYPE=image/png:https://www.clearview.org/wp-content/uploads/2025/09/April-2026.png
END:VEVENT
BEGIN:VEVENT
DTSTART;TZID=America/Chicago:20260417T160000
DTEND;TZID=America/Chicago:20260419T100000
DTSTAMP:20260411T230602
CREATED:20260210T210533Z
LAST-MODIFIED:20260210T210533Z
UID:43672-1776441600-1776592800@www.clearview.org
SUMMARY:Women's Retreat
DESCRIPTION:Join us for a refreshing two-night retreat filled with fellowship\, rest\, and fun. This weekend away is a great opportunity to step out of your routine and connect more deeply with others in our church family. Our speaker for this year’s retreat will be Krystal Ribble. She will be talking about finding peace and purpose in abundance by making space for God’s plans. \nYour cost includes lodging\, meals\, snacks\, and a retreat sweatshirt\, with both single-occupancy and double-occupancy room options available. For a little extra adventure\, you can also add a zip line ride during registration. \nRegistration Details:To allow for deposits and flexible payments this year\, registration requires a quick account login. When you click the registration link\, you’ll be prompted to log in or create an account before completing your sign-up. At checkout\, you can either pay a $100 deposit to reserve your spot or pay in full. Once you’re logged in\, simply select your rooming preference and any add-ons\, then complete checkout. \nClick HERE to sign up today!
URL:https://www.clearview.org/event/womens-retreat/
CATEGORIES:Adults,General
ATTACH;FMTTYPE=image/png:https://www.clearview.org/wp-content/uploads/2026/02/2026-placeholder.png
END:VEVENT
BEGIN:VEVENT
DTSTART;TZID=America/Chicago:20260419T104500
DTEND;TZID=America/Chicago:20260419T120000
DTSTAMP:20260411T230602
CREATED:20260303T181526Z
LAST-MODIFIED:20260303T181526Z
UID:43745-1776595500-1776600000@www.clearview.org
SUMMARY:PLACE Class
DESCRIPTION:Discover Your Calling with PLACE Class \nYou are NOT an accident! God created you with a unique purpose\, and He wants to use you to make an impact. PLACE is a powerful tool designed to help you uncover your God-given personality\, spiritual gifts\, and passions. Through guided assessments and personal insights\, our PLACE Guides will help you connect the dots between who you are and what you are called to do. Join us for this transformative experience and take your next step in discovering your purpose. Our next class in on April 19\, 2026 at 10:45 AM in the Ellersley House. \nReady to sign up? Click here to register!
URL:https://www.clearview.org/event/place-class-3/
CATEGORIES:Adults,General
END:VEVENT
BEGIN:VEVENT
DTSTART;TZID=America/Chicago:20260422T183000
DTEND;TZID=America/Chicago:20260422T193000
DTSTAMP:20260411T230602
CREATED:20251216T195432Z
LAST-MODIFIED:20251216T204854Z
UID:43413-1776882600-1776886200@www.clearview.org
SUMMARY:Pray Night: Fourth Wednesday - April
DESCRIPTION:Wednesday Nights are a midweek pause to reconnect with God and with one another as a church family. This semester\, we’re embracing a simple\, intentional rhythm for our Wednesday evenings: Pray. Study. Gather. Pray. \nOn the fourth Wednesday of each month\, we return to Prayer. Join us on April 22 as Pastor Matt leads us in praying through the Psalms. We’ll meet in the Gym and begin at 6:30 PM. \nThis night is designed to be meaningful\, accessible\, and grounding\, whether prayer comes easily to you or feels unfamiliar. You don’t need to know what to say or how to pray. Let’s learn to let Scripture guide our time together. Students and Kids Ministries will have their usual programming. See details at www.clearview.org/wednesdays/ \nMissed a week or new to Wednesday Nights? You can jump in at any time. We’d love to pray with you. Need childcare for birth-5th-graders? Let us know by filling out the form below.
URL:https://www.clearview.org/event/prayer-night-fourth-wednesday-april/
LOCATION:The Gym\, 537 Franklin Rd\, Building A\, Franklin\, TN\, 37069
CATEGORIES:Adults
END:VEVENT
END:VCALENDAR